{
 "version": 1.0,
 "tileBundlesPath": "./tile",
 "tileInfo": {
  "spatialReference": {
   "wkid": 102067,
   "latestWkid": 5514
  },
  "origin": {
   "x": -3.369963064526357E7,
   "y": 3.366613058461971E7
  },
  "rows": 256,
  "cols": 256,
  "dpi": 96,
  "lods": [
   {
    "level": 0,
    "resolution": 263278.3644161216,
    "scale": 9.95067834013688E8
   },
   {
    "level": 1,
    "resolution": 131639.1822080608,
    "scale": 4.97533917006844E8
   },
   {
    "level": 2,
    "resolution": 65819.5911040304,
    "scale": 2.48766958503422E8
   },
   {
    "level": 3,
    "resolution": 32909.7955520152,
    "scale": 1.24383479251711E8
   },
   {
    "level": 4,
    "resolution": 16454.8977760076,
    "scale": 6.21917396258555E7
   },
   {
    "level": 5,
    "resolution": 8227.4488880038,
    "scale": 3.109586981292775E7
   },
   {
    "level": 6,
    "resolution": 4113.7244440019,
    "scale": 1.5547934906463875E7
   },
   {
    "level": 7,
    "resolution": 2056.86222200095,
    "scale": 7773967.453231937
   },
   {
    "level": 8,
    "resolution": 1028.431111000475,
    "scale": 3886983.7266159686
   },
   {
    "level": 9,
    "resolution": 514.2155555002375,
    "scale": 1943491.8633079843
   },
   {
    "level": 10,
    "resolution": 257.10777775011877,
    "scale": 971745.9316539922
   },
   {
    "level": 11,
    "resolution": 128.55388887505939,
    "scale": 485872.9658269961
   },
   {
    "level": 12,
    "resolution": 64.27694443752969,
    "scale": 242936.48291349804
   },
   {
    "level": 13,
    "resolution": 32.138472218764846,
    "scale": 121468.24145674902
   },
   {
    "level": 14,
    "resolution": 16.069236109382423,
    "scale": 60734.12072837451
   },
   {
    "level": 15,
    "resolution": 8.034618054691212,
    "scale": 30367.060364187255
   },
   {
    "level": 16,
    "resolution": 4.017309027345606,
    "scale": 15183.530182093627
   },
   {
    "level": 17,
    "resolution": 2.008654513672803,
    "scale": 7591.765091046814
   },
   {
    "level": 18,
    "resolution": 1.0043272568364014,
    "scale": 3795.882545523407
   }
  ],
  "format": "LERC",
  "compressionQuality": 0,
  "bandCount": 1,
  "lercError": 0,
  "storageFormat": "esriMapCacheStorageModeCompactV2",
  "packetSize": 128
 },
 "storageInfo": {
  "packetSize": 128,
  "storageFormat": "esriMapCacheStorageModeCompactV2"
 },
 "tileImageInfo": {
  "format": "LERC",
  "compressionQuality": 0,
  "bandCount": 1,
  "lercError": 0.01
 },
 "name": "OMI_DTM_2019",
 "minScale": 9.95067834013688E8,
 "maxScale": 3795.882545523407,
 "minLOD": 0,
 "maxLOD": 18,
 "spatialReference": {
  "wkid": 102067,
  "latestWkid": 5514
 },
 "units": "esriMeters",
 "serviceDescription": "",
 "resampling": true,
 "exportTilesAllowed": false,
 "initialExtent": {
  "xmin": -611431.42098023,
  "ymin": -1170860.5059208076,
  "xmax": -588490.5777795729,
  "ymax": -1149314.6732798964,
  "spatialReference": {
   "wkid": 102067,
   "latestWkid": 5514
  }
 },
 "fullExtent": {
  "xmin": -611431.42098023,
  "ymin": -1170860.5059208076,
  "xmax": -588490.5777795729,
  "ymax": -1149314.6732798964,
  "spatialReference": {
   "wkid": 102067,
   "latestWkid": 5514
  }
 },
 "currentVersion": 11.5,
 "mapName": "OMI_DTM_2019",
 "singleFusedMapCache": true,
 "type": "ImageServer",
 "capabilities": "Image,TilesOnly,Tilemap",
 "datasetFormat": "Cache/LERC",
 "compressionType": "LERC",
 "serviceDataType": "esriImageServiceDataTypeElevation",
 "cacheType": "Elevation",
 "blockWidth": 256,
 "blockHeight": 256,
 "bandCount": 1,
 "pixelSizeX": 1.0043272568364014,
 "pixelSizeY": 1.0043272568364014,
 "minPixelSize": 1.0043272568364014,
 "maxPixelSize": 263278.3644161216
}
