{
 "version": 1.0,
 "tileBundlesPath": "./tile",
 "tileInfo": {
  "spatialReference": {
   "wkid": 102067,
   "latestWkid": 5514
  },
  "origin": {
   "x": -33699800,
   "y": 33699800
  },
  "rows": 256,
  "cols": 256,
  "dpi": 96,
  "lods": [
   {
    "level": 0,
    "resolution": 66.1459656252646,
    "scale": 250000
   },
   {
    "level": 1,
    "resolution": 33.0729828126323,
    "scale": 125000
   },
   {
    "level": 2,
    "resolution": 16.53649140631615,
    "scale": 62500
   },
   {
    "level": 3,
    "resolution": 8.268245703158074,
    "scale": 31250
   },
   {
    "level": 4,
    "resolution": 4.134122851579037,
    "scale": 15625
   },
   {
    "level": 5,
    "resolution": 2.0670614257895186,
    "scale": 7812.5
   },
   {
    "level": 6,
    "resolution": 1.0335307128947593,
    "scale": 3906.25
   },
   {
    "level": 7,
    "resolution": 0.5167653564473796,
    "scale": 1953.125
   },
   {
    "level": 8,
    "resolution": 0.2583826782236898,
    "scale": 976.5625
   },
   {
    "level": 9,
    "resolution": 0.1291913391118449,
    "scale": 488.28125
   }
  ],
  "format": "PNG",
  "compressionQuality": 0,
  "bandCount": 1,
  "lercError": 0,
  "storageFormat": "esriMapCacheStorageModeCompactV2",
  "packetSize": 128
 },
 "storageInfo": {
  "packetSize": 128,
  "storageFormat": "esriMapCacheStorageModeCompactV2"
 },
 "tileImageInfo": {
  "format": "PNG",
  "compressionQuality": 0,
  "bandCount": 1,
  "lercError": 0
 },
 "name": "OMI_historicke_plany_1824",
 "minLOD": 0,
 "maxLOD": 8,
 "spatialReference": {
  "wkid": 102067,
  "latestWkid": 5514
 },
 "units": "esriMeters",
 "serviceDescription": "",
 "resampling": true,
 "initialExtent": {
  "xmin": -599675.8956990503,
  "ymin": -1162077.586100556,
  "xmax": -596861.2039938205,
  "ymax": -1159567.7859556302,
  "spatialReference": {
   "wkid": 102067,
   "latestWkid": 5514
  }
 },
 "fullExtent": {
  "xmin": -599675.8956990503,
  "ymin": -1162077.586100556,
  "xmax": -596861.2039938205,
  "ymax": -1159567.7859556302,
  "spatialReference": {
   "wkid": 102067,
   "latestWkid": 5514
  }
 },
 "minScale": 250000,
 "maxScale": 976.5625,
 "exportTilesAllowed": false,
 "maxExportTilesCount": 0,
 "currentVersion": 11.5,
 "mapName": "OMI_historicke_plany_1824",
 "singleFusedMapCache": true,
 "type": "MapServer",
 "supportedExtensions": "",
 "capabilities": "TilesOnly,Tilemap",
 "serviceItemId": "c94e96c620ca46568056fe896ab17104"
}
