{
 "version": 1.0,
 "tileBundlesPath": "./tile",
 "tileInfo": {
  "spatialReference": {
   "wkid": 102067,
   "latestWkid": 5514
  },
  "origin": {
   "x": -33699800,
   "y": 33699800
  },
  "rows": 256,
  "cols": 256,
  "dpi": 96,
  "lods": [
   {
    "level": 0,
    "resolution": 33.0729828126323,
    "scale": 125000
   },
   {
    "level": 1,
    "resolution": 16.53649140631615,
    "scale": 62500
   },
   {
    "level": 2,
    "resolution": 8.268245703158074,
    "scale": 31250
   },
   {
    "level": 3,
    "resolution": 4.134122851579037,
    "scale": 15625
   }
  ],
  "format": "PNG",
  "compressionQuality": 0,
  "bandCount": 1,
  "lercError": 0,
  "storageFormat": "esriMapCacheStorageModeCompactV2",
  "packetSize": 128
 },
 "storageInfo": {
  "packetSize": 128,
  "storageFormat": "esriMapCacheStorageModeCompactV2"
 },
 "tileImageInfo": {
  "format": "PNG",
  "compressionQuality": 0,
  "bandCount": 1,
  "lercError": 0
 },
 "name": "omi_ok_pocitova_mapa_neco_vyjmecneho_popisky",
 "minLOD": 0,
 "maxLOD": 3,
 "spatialReference": {
  "wkid": 102067,
  "latestWkid": 5514
 },
 "units": "esriMeters",
 "serviceDescription": "",
 "resampling": true,
 "initialExtent": {
  "xmin": -611814.4555393234,
  "ymin": -1171451.8388578529,
  "xmax": -587237.095186686,
  "ymax": -1148953.9422995597,
  "spatialReference": {
   "wkid": 102067,
   "latestWkid": 5514
  }
 },
 "fullExtent": {
  "xmin": -611814.4555393234,
  "ymin": -1171451.8388578529,
  "xmax": -587237.095186686,
  "ymax": -1148953.9422995597,
  "spatialReference": {
   "wkid": 102067,
   "latestWkid": 5514
  }
 },
 "minScale": 125000,
 "maxScale": 15625,
 "exportTilesAllowed": false,
 "maxExportTilesCount": 0,
 "currentVersion": 11.5,
 "mapName": "omi_ok_pocitova_mapa_neco_vyjmecneho_popisky",
 "singleFusedMapCache": true,
 "type": "MapServer",
 "supportedExtensions": "",
 "capabilities": "TilesOnly,Tilemap",
 "serviceItemId": "c3f657c1a17144a29b681595b9cf03eb"
}
