{
 "currentVersion": 11.5,
 "serviceDescription": "OMI/DTM_2019_elevation_t",
 "serviceItemId": "51a95bcea0474030be48aa490215ea4e",
 "name": "OMI/DTM_2019_elevation_t",
 "description": "",
 "extent": {
  "xmin": -611431.8009834506,
  "ymin": -1170860.9707286125,
  "xmax": -588490.5509834506,
  "ymax": -1149314.4707286125,
  "spatialReference": {
   "wkid": 102067,
   "latestWkid": 5514
  }
 },
 "initialExtent": {
  "xmin": -611431.8009834506,
  "ymin": -1170860.9707286125,
  "xmax": -588490.5509834506,
  "ymax": -1149314.4707286125,
  "spatialReference": {
   "wkid": 102067,
   "latestWkid": 5514
  }
 },
 "fullExtent": {
  "xmin": -611431.8009834506,
  "ymin": -1170860.9707286125,
  "xmax": -588490.5509834506,
  "ymax": -1149314.4707286125,
  "spatialReference": {
   "wkid": 102067,
   "latestWkid": 5514
  }
 },
 "sortableFields": "MinPS,MaxPS,LowPS,HighPS,CenterX,CenterY,ZOrder,Shape_Length,Shape_Area",
 "bandCount": 1,
 "pixelType": "F32",
 "minValues": [],
 "maxValues": [],
 "meanValues": [],
 "stdvValues": [],
 "serviceProperties": "NorthWest<\/MosaicMethod>First<\/MosaicOperator>true<\/SortAscending><\/LockImageID>Name<\/TileOrderField>0<\/TileOrderBase>600.000000<\/AvgImageSpacingX>300.000000<\/AvgImageSpacingY>0.0<\/ViewPointX>0.0<\/ViewPointY>0.0<\/ViewPointDefShiftX>0.0<\/ViewPointDefShiftY>None<\/CompressionMethod>75<\/CompressionQuality>0.100000<\/CompressionTolerance>Bilinear<\/SamplingMethod><\/ImageServiceProperties><\/ImageServer>",
 "allowedFields": "Name,MinPS,MaxPS,LowPS,HighPS,Tag,GroupName,ProductName,CenterX,CenterY,ZOrder,Shape_Length,Shape_Area",
 "hasMultidimensions": false,
 "pixelSizeX": 0.25,
 "pixelSizeY": 0.25,
 "meanPixelSize": 0.25,
 "datasetFormat": "AMD",
 "uncompressedSize": 31635433160,
 "blockWidth": 2048,
 "blockHeight": 256,
 "compressionType": "None",
 "bandNames": [
  "Band_1"
 ],
 "allowCopy": true,
 "allowAnalysis": true,
 "itemAccess": false,
 "inspectionCapabilities": "",
 "minPixelSize": 1.0043272568364014,
 "maxPixelSize": 64.27694443752969,
 "copyrightText": "",
 "serviceDataType": "esriImageServiceDataTypeGeneric",
 "serviceSourceType": "esriImageServiceSourceTypeMosaicDataset",
 "objectIdField": "OBJECTID",
 "fields": [
  {
   "name": "OBJECTID",
   "type": "esriFieldTypeOID",
   "alias": "OBJECTID",
   "domain": null
  },
  {
   "name": "Shape",
   "type": "esriFieldTypeGeometry",
   "alias": "Shape",
   "domain": null
  },
  {
   "name": "Name",
   "type": "esriFieldTypeString",
   "alias": "Name",
   "domain": null,
   "length": 200
  },
  {
   "name": "MinPS",
   "type": "esriFieldTypeDouble",
   "alias": "MinPS",
   "domain": null
  },
  {
   "name": "MaxPS",
   "type": "esriFieldTypeDouble",
   "alias": "MaxPS",
   "domain": null
  },
  {
   "name": "LowPS",
   "type": "esriFieldTypeDouble",
   "alias": "LowPS",
   "domain": null
  },
  {
   "name": "HighPS",
   "type": "esriFieldTypeDouble",
   "alias": "HighPS",
   "domain": null
  },
  {
   "name": "Category",
   "type": "esriFieldTypeInteger",
   "alias": "Category",
   "domain": {
    "type": "codedValue",
    "name": "MosaicCatalogItemCategoryDomain",
    "description": "Catalog item categories.",
    "codedValues": [
     {
      "name": "Unknown",
      "code": 0
     },
     {
      "name": "Primary",
      "code": 1
     },
     {
      "name": "Overview",
      "code": 2
     },
     {
      "name": "Unprocessed Overview",
      "code": 3
     },
     {
      "name": "Partial Overview",
      "code": 4
     },
     {
      "name": "Inactive",
      "code": 5
     },
     {
      "name": "Uploaded",
      "code": 253
     },
     {
      "name": "Incomplete",
      "code": 254
     },
     {
      "name": "Custom",
      "code": 255
     }
    ],
    "mergePolicy": "esriMPTDefaultValue",
    "splitPolicy": "esriSPTDefaultValue"
   }
  },
  {
   "name": "Tag",
   "type": "esriFieldTypeString",
   "alias": "Tag",
   "domain": null,
   "length": 100
  },
  {
   "name": "GroupName",
   "type": "esriFieldTypeString",
   "alias": "GroupName",
   "domain": null,
   "length": 100
  },
  {
   "name": "ProductName",
   "type": "esriFieldTypeString",
   "alias": "ProductName",
   "domain": null,
   "length": 100
  },
  {
   "name": "CenterX",
   "type": "esriFieldTypeDouble",
   "alias": "CenterX",
   "domain": null
  },
  {
   "name": "CenterY",
   "type": "esriFieldTypeDouble",
   "alias": "CenterY",
   "domain": null
  },
  {
   "name": "ZOrder",
   "type": "esriFieldTypeInteger",
   "alias": "ZOrder",
   "domain": null
  },
  {
   "name": "Shape_Length",
   "type": "esriFieldTypeDouble",
   "alias": "Shape_Length",
   "domain": null
  },
  {
   "name": "Shape_Area",
   "type": "esriFieldTypeDouble",
   "alias": "Shape_Area",
   "domain": null
  }
 ],
 "capabilities": "Image,Metadata,Catalog,Mensuration",
 "defaultMosaicMethod": "Northwest",
 "allowedMosaicMethods": "NorthWest,Center,LockRaster,ByAttribute,Nadir,Viewpoint,Seamline,None",
 "sortField": "",
 "sortValue": null,
 "sortAscending": true,
 "mosaicOperator": "First",
 "maxDownloadSizeLimit": 2048,
 "defaultCompressionQuality": 75,
 "defaultResamplingMethod": "Bilinear",
 "maxImageHeight": 4100,
 "maxImageWidth": 15000,
 "maxRecordCount": 1000,
 "maxDownloadImageCount": 20,
 "maxMosaicImageCount": 20,
 "singleFusedMapCache": true,
 "tileInfo": {
  "rows": 256,
  "cols": 256,
  "dpi": 96,
  "format": "LERC",
  "compressionQuality": 0,
  "lercError": 0.05,
  "origin": {
   "x": -3.369963064526357E7,
   "y": 3.366613058461971E7
  },
  "spatialReference": {
   "wkid": 102067,
   "latestWkid": 5514
  },
  "lods": [
   {
    "level": 0,
    "resolution": 263278.3644161216,
    "scale": 9.95067834013688E8
   },
   {
    "level": 1,
    "resolution": 131639.1822080608,
    "scale": 4.97533917006844E8
   },
   {
    "level": 2,
    "resolution": 65819.5911040304,
    "scale": 2.48766958503422E8
   },
   {
    "level": 3,
    "resolution": 32909.7955520152,
    "scale": 1.24383479251711E8
   },
   {
    "level": 4,
    "resolution": 16454.8977760076,
    "scale": 6.21917396258555E7
   },
   {
    "level": 5,
    "resolution": 8227.4488880038,
    "scale": 3.109586981292775E7
   },
   {
    "level": 6,
    "resolution": 4113.7244440019,
    "scale": 1.5547934906463875E7
   },
   {
    "level": 7,
    "resolution": 2056.86222200095,
    "scale": 7773967.453231937
   },
   {
    "level": 8,
    "resolution": 1028.431111000475,
    "scale": 3886983.7266159686
   },
   {
    "level": 9,
    "resolution": 514.2155555002375,
    "scale": 1943491.8633079843
   },
   {
    "level": 10,
    "resolution": 257.10777775011877,
    "scale": 971745.9316539922
   },
   {
    "level": 11,
    "resolution": 128.55388887505939,
    "scale": 485872.9658269961
   },
   {
    "level": 12,
    "resolution": 64.27694443752969,
    "scale": 242936.48291349804
   },
   {
    "level": 13,
    "resolution": 32.138472218764846,
    "scale": 121468.24145674902
   },
   {
    "level": 14,
    "resolution": 16.069236109382423,
    "scale": 60734.12072837451
   },
   {
    "level": 15,
    "resolution": 8.034618054691212,
    "scale": 30367.060364187255
   },
   {
    "level": 16,
    "resolution": 4.017309027345606,
    "scale": 15183.530182093627
   },
   {
    "level": 17,
    "resolution": 2.008654513672803,
    "scale": 7591.765091046814
   },
   {
    "level": 18,
    "resolution": 1.0043272568364014,
    "scale": 3795.882545523407
   }
  ]
 },
 "storageInfo": {
  "storageFormat": "esriMapCacheStorageModeCompactV2",
  "packetSize": 128
 },
 "cacheType": "Elevation",
 "allowRasterFunction": true,
 "rasterFunctionInfos": [
  {
   "name": "None",
   "description": "Make a Raster or Raster Dataset into a Function Raster Dataset.",
   "help": ""
  },
  {
   "name": "Shaded Relief Multidirectional",
   "description": "Creates a multiband, color coded, 3D representation of the surface, with the sun's relative position taken into account for shading the image.",
   "help": ""
  },
  {
   "name": "Aspect-Slope",
   "description": "Creates a raster that simultaneously displays the aspect (direction) and slope (steepness) of a continuous surface, as represented in a digital elevation model.",
   "help": ""
  },
  {
   "name": "Hillshade KAM",
   "description": "A raster function template for Architect Office.",
   "help": ""
  },
  {
   "name": "Hillshade",
   "description": "Creates a 3D representation of the surface, with the sun's relative position taken into account for shading the image.",
   "help": ""
  }
 ],
 "rasterTypeInfos": [
  {
   "name": "Raster Dataset",
   "description": "Supports all ArcGIS Raster Datasets",
   "help": ""
  }
 ],
 "mensurationCapabilities": "Basic",
 "hasHistograms": false,
 "hasColormap": false,
 "hasRasterAttributeTable": false,
 "minScale": 242936.48291349804,
 "maxScale": 3795.882545523407,
 "minLOD": 12,
 "maxLOD": 18,
 "exportTilesAllowed": false,
 "supportsStatistics": true,
 "supportsAdvancedQueries": true,
 "editFieldsInfo": null,
 "ownershipBasedAccessControlForRasters": null,
 "allowComputeTiePoints": false,
 "useStandardizedQueries": true,
 "advancedQueryCapabilities": {
  "useStandardizedQueries": true,
  "supportsStatistics": true,
  "supportsOrderBy": true,
  "supportsDistinct": true,
  "supportsPagination": true
 },
 "spatialReference": {
  "wkid": 102067,
  "latestWkid": 5514
 }
}
