{
 "currentVersion": 11.5,
 "serviceDescription": "OMI/OMI_DMP__2025_elevation_sjtsk",
 "serviceItemId": "7f7dcae42c7747e3866726dd9a1120ea",
 "name": "OMI/OMI_DMP__2025_elevation_sjtsk",
 "description": "",
 "extent": {
  "xmin": -613125.0452635661,
  "ymin": -1172500.0189172998,
  "xmax": -586875.0452635661,
  "ymax": -1147500.0189172998,
  "spatialReference": {
   "wkid": 102067,
   "latestWkid": 5514
  }
 },
 "initialExtent": {
  "xmin": -613125.0452635661,
  "ymin": -1172500.0189172998,
  "xmax": -586875.0452635661,
  "ymax": -1147500.0189172998,
  "spatialReference": {
   "wkid": 102067,
   "latestWkid": 5514
  }
 },
 "fullExtent": {
  "xmin": -613125.0452635661,
  "ymin": -1172500.0189172998,
  "xmax": -586875.0452635661,
  "ymax": -1147500.0189172998,
  "spatialReference": {
   "wkid": 102067,
   "latestWkid": 5514
  }
 },
 "sortableFields": "",
 "bandCount": 1,
 "pixelType": "F32",
 "minValues": [
  181.16531372070312
 ],
 "maxValues": [
  554.5084228515625
 ],
 "meanValues": [
  294.38750287173644
 ],
 "stdvValues": [
  71.86287185080775
 ],
 "serviceProperties": "Center<\/MosaicMethod>First<\/MosaicOperator>true<\/SortAscending><\/LockImageID><\/TileOrderField>0<\/TileOrderBase>0.000000<\/AvgImageSpacingX>0.000000<\/AvgImageSpacingY>0.0<\/ViewPointX>0.0<\/ViewPointY>0.0<\/ViewPointDefShiftX>0.0<\/ViewPointDefShiftY>None<\/CompressionMethod>75<\/CompressionQuality>0.100000<\/CompressionTolerance>Bilinear<\/SamplingMethod><\/ImageServiceProperties><\/ImageServer>",
 "allowedFields": "",
 "hasMultidimensions": false,
 "pixelSizeX": 0.25,
 "pixelSizeY": 0.25,
 "meanPixelSize": 0.25,
 "datasetFormat": "FGDBR",
 "uncompressedSize": 42000000000,
 "blockWidth": 128,
 "blockHeight": 128,
 "compressionType": "NONE",
 "bandNames": [
  "Band_1"
 ],
 "allowCopy": true,
 "allowAnalysis": true,
 "itemAccess": false,
 "inspectionCapabilities": "",
 "minPixelSize": 0.125,
 "maxPixelSize": 64,
 "copyrightText": "",
 "serviceDataType": "esriImageServiceDataTypeGeneric",
 "serviceSourceType": "esriImageServiceSourceTypeDataset",
 "objectIdField": "",
 "fields": [],
 "capabilities": "Image,Metadata,Mensuration,TileMap",
 "defaultMosaicMethod": "Center",
 "allowedMosaicMethods": "",
 "sortField": "",
 "sortValue": null,
 "sortAscending": true,
 "mosaicOperator": "First",
 "defaultCompressionQuality": 75,
 "defaultResamplingMethod": "Bilinear",
 "maxImageHeight": 4100,
 "maxImageWidth": 15000,
 "singleFusedMapCache": true,
 "tileInfo": {
  "rows": 256,
  "cols": 256,
  "dpi": 96,
  "format": "LERC",
  "compressionQuality": 0,
  "lercError": 0.05,
  "origin": {
   "x": -33699800,
   "y": 33699800
  },
  "spatialReference": {
   "wkid": 102067,
   "latestWkid": 5514
  },
  "lods": [
   {
    "level": 0,
    "resolution": 64,
    "scale": 241889.28
   },
   {
    "level": 1,
    "resolution": 32,
    "scale": 120944.64
   },
   {
    "level": 2,
    "resolution": 16,
    "scale": 60472.32
   },
   {
    "level": 3,
    "resolution": 8,
    "scale": 30236.16
   },
   {
    "level": 4,
    "resolution": 6.614596562526459,
    "scale": 25000
   },
   {
    "level": 5,
    "resolution": 4,
    "scale": 15118.08
   },
   {
    "level": 6,
    "resolution": 2.6458386250105836,
    "scale": 10000
   },
   {
    "level": 7,
    "resolution": 2,
    "scale": 7559.04
   },
   {
    "level": 8,
    "resolution": 1.3229193125052918,
    "scale": 5000
   },
   {
    "level": 9,
    "resolution": 1,
    "scale": 3779.52
   },
   {
    "level": 10,
    "resolution": 0.5,
    "scale": 1889.76
   },
   {
    "level": 11,
    "resolution": 0.25,
    "scale": 944.88
   },
   {
    "level": 12,
    "resolution": 0.125,
    "scale": 472.44
   },
   {
    "level": 13,
    "resolution": 0.0625,
    "scale": 236.22
   }
  ]
 },
 "storageInfo": {
  "storageFormat": "esriMapCacheStorageModeCompactV2",
  "packetSize": 128
 },
 "cacheType": "Elevation",
 "allowRasterFunction": true,
 "rasterFunctionInfos": [
  {
   "name": "None",
   "description": "Make a Raster or Raster Dataset into a Function Raster Dataset.",
   "help": ""
  },
  {
   "name": "shaded_relief_dmp2025",
   "description": "Stínovaný reliéf - barevný z podkladu digitálního modelu povrchu 2025",
   "help": ""
  },
  {
   "name": "hillshade_2025",
   "description": "Stínovaný reliéf vzniklý z digitálního modelu povrchu 2025",
   "help": ""
  }
 ],
 "rasterTypeInfos": [
  {
   "name": "Raster Dataset",
   "description": "Supports all ArcGIS Raster Datasets",
   "help": ""
  }
 ],
 "mensurationCapabilities": "Basic",
 "hasHistograms": true,
 "hasColormap": false,
 "hasRasterAttributeTable": false,
 "minScale": 241889.28,
 "maxScale": 472.44,
 "minLOD": 0,
 "maxLOD": 12,
 "exportTilesAllowed": false,
 "supportsStatistics": false,
 "supportsAdvancedQueries": false,
 "editFieldsInfo": null,
 "ownershipBasedAccessControlForRasters": null,
 "allowComputeTiePoints": false,
 "useStandardizedQueries": true,
 "advancedQueryCapabilities": {
  "useStandardizedQueries": true,
  "supportsStatistics": false,
  "supportsOrderBy": false,
  "supportsDistinct": false,
  "supportsPagination": false
 },
 "spatialReference": {
  "wkid": 102067,
  "latestWkid": 5514
 }
}
