<?xml version="1.0" encoding="UTF-8" standalone="no"?>
<metadata xml:lang="cs">
<Esri>
<CreaDate>20190819</CreaDate>
<CreaTime>10340900</CreaTime>
<ArcGISFormat>1.0</ArcGISFormat>
<SyncOnce>FALSE</SyncOnce>
<DataProperties>
<lineage>
<Process Date="20190819" Time="103409" ToolSource="c:\program files\arcgis\pro\Resources\ArcToolbox\toolboxes\Spatial Analyst Tools.tbx\ExtractByMask">ExtractByMask DTM19_025 rozsah_DTM D:\_dataD\DTM\dtm19\dtm.gdb\DTM2019_linear025</Process>
<Process Date="20200120" Time="144641" ToolSource="c:\program files\arcgis\pro\Resources\ArcToolbox\toolboxes\Data Management Tools.tbx\CopyRaster">CopyRaster D:\_dataD\DTM\dtm19\dtm.gdb\DTM2019_linear025 F:\pub_dtm.gdb\DTM_Brno_2019_025_5514 # # -3,402823e+38 NONE NONE # NONE NONE "Cloud Optimized GeoTIFF" NONE CURRENT_SLICE NO_TRANSPOSE</Process>
<Process Date="20200722" Time="151339" ToolSource="c:\program files\arcgis\pro\Resources\ArcToolbox\toolboxes\Data Management Tools.tbx\CopyMultiple">CopyMultiple "F:\pub_dtm.gdb\DTM_Brno_2019_025_5514 RasterDataset" D:\ref_portal\dtm.gdb DTM_Brno_2019_025_5514 "DTM_Brno_2019_025_5514 RasterDataset DTM_Brno_2019_025_5514 #"</Process>
<Process Date="20231219" Time="151722" ToolSource="d:\program files\arcgis\pro\Resources\ArcToolbox\Toolboxes\Data Management Tools.tbx\Rename">Rename \\gisstore\data03\data_omi\3D\DMT\2019\dtm.gdb\DTM_Brno_2019_025_5514 \\gisstore\data03\data_omi\3D\DMT\2019\dtm.gdb\OMI_DMT_2019 RasterDataset</Process>
<Process Date="20231220" Time="110247" ToolSource="d:\program files\arcgis\pro\Resources\ArcToolbox\Toolboxes\Data Management Tools.tbx\CopyMultiple">CopyMultiple "\\gisstore\data03\data_omi\3D\DMT\2019\dtm.gdb\OMI_DMT_2019 RasterDataset" \\gisstore\data03\data_omi\3D\DMT\2019\dtm.gdb OMI_DMT_2019_1 "OMI_DMT_2019 RasterDataset OMI_DMT_2019_1 #"</Process>
<Process Date="20231220" Time="110820" ToolSource="d:\program files\arcgis\pro\Resources\ArcToolbox\Toolboxes\Data Management Tools.tbx\Rename">Rename \\gisstore\data03\data_omi\3D\DMT\2019\dtm.gdb\OMI_DMT_2019_1 \\gisstore\data03\data_omi\3D\DMT\2019\dtm.gdb\OMI_DMT_2019_elevation RasterDataset</Process>
<Process Date="20231220" Time="133142" ToolSource="d:\program files\arcgis\pro\Resources\ArcToolbox\toolboxes\Data Management Tools.tbx\CopyMultiple">CopyMultiple "\\gisstore\data03\data_omi\3D\DMT\2019\dtm.gdb\OMI_DMT_2019_elevation RasterDataset" "\\gisstore\data03\data_omi\3D\DMT\2019\New File Geodatabase.gdb" OMI_DMT_2019_elevation "OMI_DMT_2019_elevation RasterDataset OMI_DMT_2019_elevation #"</Process>
</lineage>
<itemProps>
<itemName Sync="TRUE">DTM_Brno_2019_025_5514</itemName>
<imsContentType Sync="TRUE">002</imsContentType>
<nativeExtBox>
<westBL Sync="TRUE">-611431.800983</westBL>
<eastBL Sync="TRUE">-588490.550983</eastBL>
<southBL Sync="TRUE">-1170860.970729</southBL>
<northBL Sync="TRUE">-1149314.470729</northBL>
<exTypeCode Sync="TRUE">1</exTypeCode>
</nativeExtBox>
<itemLocation>
<linkage Sync="TRUE">file://\\ZP10022008312\F$\pub_dtm.gdb</linkage>
<protocol Sync="TRUE">Local Area Network</protocol>
</itemLocation>
</itemProps>
<coordRef>
<type Sync="TRUE">Projected</type>
<geogcsn Sync="TRUE">GCS_S_JTSK</geogcsn>
<csUnits Sync="TRUE">Linear Unit: Meter (1.000000)</csUnits>
<projcsn Sync="TRUE">S-JTSK_Krovak_East_North</projcsn>
<peXml Sync="TRUE">&lt;ProjectedCoordinateSystem xsi:type='typens:ProjectedCoordinateSystem' xmlns:xsi='http://www.w3.org/2001/XMLSchema-instance' xmlns:xs='http://www.w3.org/2001/XMLSchema' xmlns:typens='http://www.esri.com/schemas/ArcGIS/2.4.0'&gt;&lt;WKT&gt;PROJCS[&amp;quot;S-JTSK_Krovak_East_North&amp;quot;,GEOGCS[&amp;quot;GCS_S_JTSK&amp;quot;,DATUM[&amp;quot;D_S_JTSK&amp;quot;,SPHEROID[&amp;quot;Bessel_1841&amp;quot;,6377397.155,299.1528128]],PRIMEM[&amp;quot;Greenwich&amp;quot;,0.0],UNIT[&amp;quot;Degree&amp;quot;,0.0174532925199433]],PROJECTION[&amp;quot;Krovak&amp;quot;],PARAMETER[&amp;quot;False_Easting&amp;quot;,0.0],PARAMETER[&amp;quot;False_Northing&amp;quot;,0.0],PARAMETER[&amp;quot;Pseudo_Standard_Parallel_1&amp;quot;,78.5],PARAMETER[&amp;quot;Scale_Factor&amp;quot;,0.9999],PARAMETER[&amp;quot;Azimuth&amp;quot;,30.28813975277778],PARAMETER[&amp;quot;Longitude_Of_Center&amp;quot;,24.83333333333333],PARAMETER[&amp;quot;Latitude_Of_Center&amp;quot;,49.5],PARAMETER[&amp;quot;X_Scale&amp;quot;,-1.0],PARAMETER[&amp;quot;Y_Scale&amp;quot;,1.0],PARAMETER[&amp;quot;XY_Plane_Rotation&amp;quot;,90.0],UNIT[&amp;quot;Meter&amp;quot;,1.0],AUTHORITY[&amp;quot;EPSG&amp;quot;,5514]]&lt;/WKT&gt;&lt;XOrigin&gt;-33699800&lt;/XOrigin&gt;&lt;YOrigin&gt;-33699800&lt;/YOrigin&gt;&lt;XYScale&gt;133638764.24698351&lt;/XYScale&gt;&lt;ZOrigin&gt;-100000&lt;/ZOrigin&gt;&lt;ZScale&gt;10000&lt;/ZScale&gt;&lt;MOrigin&gt;-100000&lt;/MOrigin&gt;&lt;MScale&gt;10000&lt;/MScale&gt;&lt;XYTolerance&gt;0.001&lt;/XYTolerance&gt;&lt;ZTolerance&gt;0.001&lt;/ZTolerance&gt;&lt;MTolerance&gt;0.001&lt;/MTolerance&gt;&lt;HighPrecision&gt;true&lt;/HighPrecision&gt;&lt;WKID&gt;102067&lt;/WKID&gt;&lt;LatestWKID&gt;5514&lt;/LatestWKID&gt;&lt;/ProjectedCoordinateSystem&gt;</peXml>
</coordRef>
</DataProperties>
<SyncDate>20200120</SyncDate>
<SyncTime>14464100</SyncTime>
<ModDate>20200120</ModDate>
<ModTime>14464100</ModTime>
</Esri>
<dataIdInfo>
<envirDesc Sync="TRUE">Microsoft Windows 7 Version 6.1 (Build 7601) Service Pack 1; Esri ArcGIS 12.4.2.19948</envirDesc>
<dataLang>
<languageCode Sync="TRUE" value="ces"/>
<countryCode Sync="TRUE" value="CZE"/>
</dataLang>
<idCitation>
<resTitle Sync="TRUE">OMI_DMT_2019_elevation</resTitle>
<presForm>
<PresFormCd Sync="TRUE" value="011"/>
</presForm>
</idCitation>
<spatRpType>
<SpatRepTypCd Sync="TRUE" value="002"/>
</spatRpType>
<dataExt>
<geoEle>
<GeoBndBox esriExtentType="search">
<exTypeCode Sync="TRUE">1</exTypeCode>
<westBL Sync="TRUE">16.411048</westBL>
<eastBL Sync="TRUE">16.755942</eastBL>
<northBL Sync="TRUE">49.307279</northBL>
<southBL Sync="TRUE">49.092391</southBL>
</GeoBndBox>
</geoEle>
</dataExt>
<idAbs/>
<idPurp/>
<idCredit/>
<resConst>
<Consts>
<useLimit/>
</Consts>
</resConst>
</dataIdInfo>
<mdLang>
<languageCode Sync="TRUE" value="ces"/>
<countryCode Sync="TRUE" value="CZE"/>
</mdLang>
<distInfo>
<distFormat>
<formatName Sync="TRUE">File Geodatabase Raster Dataset</formatName>
</distFormat>
</distInfo>
<mdHrLv>
<ScopeCd Sync="TRUE" value="005"/>
</mdHrLv>
<mdHrLvName Sync="TRUE">dataset</mdHrLvName>
<refSysInfo>
<RefSystem>
<refSysID>
<identCode Sync="TRUE" code="5514"/>
<idCodeSpace Sync="TRUE">EPSG</idCodeSpace>
<idVersion Sync="TRUE">7.7(10.1.0)</idVersion>
</refSysID>
</RefSystem>
</refSysInfo>
<spdoinfo>
<rastinfo>
<rasttype Sync="TRUE">Pixel</rasttype>
<rowcount Sync="TRUE">86186</rowcount>
<colcount Sync="TRUE">91765</colcount>
<rastxsz Sync="TRUE">0,250000</rastxsz>
<rastysz Sync="TRUE">0,250000</rastysz>
<rastbpp Sync="TRUE">32</rastbpp>
<vrtcount Sync="TRUE">1</vrtcount>
<rastorig Sync="TRUE">Upper Left</rastorig>
<rastcmap Sync="TRUE">FALSE</rastcmap>
<rastcomp Sync="TRUE">LZ77</rastcomp>
<rastband Sync="TRUE">1</rastband>
<rastdtyp Sync="TRUE">pixel codes</rastdtyp>
<rastifor Sync="TRUE">FGDBR</rastifor>
<rastplyr Sync="TRUE">TRUE</rastplyr>
</rastinfo>
</spdoinfo>
<spref>
<horizsys>
<planar>
<planci>
<plance Sync="TRUE">row and column</plance>
<coordrep>
<absres Sync="TRUE">0,250000</absres>
<ordres Sync="TRUE">0,250000</ordres>
</coordrep>
</planci>
</planar>
</horizsys>
</spref>
<mdDateSt Sync="TRUE">20200120</mdDateSt>
</metadata>
