{
 "currentVersion": 11.5,
 "serviceDescription": "OMI/OMI_DMT_2019",
 "name": "OMI/OMI_DMT_2019",
 "description": "",
 "extent": {
  "xmin": -611431.8009834506,
  "ymin": -1170860.9707286125,
  "xmax": -588490.5509834506,
  "ymax": -1149314.4707286125,
  "spatialReference": {
   "wkid": 102067,
   "latestWkid": 5514
  }
 },
 "initialExtent": {
  "xmin": -611431.8009834506,
  "ymin": -1170860.9707286125,
  "xmax": -588490.5509834506,
  "ymax": -1149314.4707286125,
  "spatialReference": {
   "wkid": 102067,
   "latestWkid": 5514
  }
 },
 "fullExtent": {
  "xmin": -611431.8009834506,
  "ymin": -1170860.9707286125,
  "xmax": -588490.5509834506,
  "ymax": -1149314.4707286125,
  "spatialReference": {
   "wkid": 102067,
   "latestWkid": 5514
  }
 },
 "sortableFields": "",
 "bandCount": 1,
 "pixelType": "F32",
 "minValues": [
  186.5543670654297
 ],
 "maxValues": [
  523.9848022460938
 ],
 "meanValues": [
  285.2750410958673
 ],
 "stdvValues": [
  69.17098591950986
 ],
 "serviceProperties": "Center<\/MosaicMethod>First<\/MosaicOperator>true<\/SortAscending><\/LockImageID><\/TileOrderField>0<\/TileOrderBase>0,000000<\/AvgImageSpacingX>0,000000<\/AvgImageSpacingY>0.0<\/ViewPointX>0.0<\/ViewPointY>0.0<\/ViewPointDefShiftX>0.0<\/ViewPointDefShiftY>None<\/CompressionMethod>75<\/CompressionQuality>0,010000<\/CompressionTolerance>Bilinear<\/SamplingMethod><\/ImageServiceProperties><\/ImageServer>",
 "allowedFields": "",
 "hasMultidimensions": false,
 "pixelSizeX": 0.25,
 "pixelSizeY": 0.25,
 "meanPixelSize": 0.25,
 "datasetFormat": "FGDBR",
 "uncompressedSize": 31635433160,
 "blockWidth": 128,
 "blockHeight": 128,
 "compressionType": "LZ77",
 "bandNames": [
  "Band_1"
 ],
 "allowCopy": true,
 "allowAnalysis": true,
 "itemAccess": false,
 "inspectionCapabilities": "",
 "minPixelSize": 0,
 "maxPixelSize": 0,
 "copyrightText": "",
 "serviceDataType": "esriImageServiceDataTypeElevation",
 "serviceSourceType": "esriImageServiceSourceTypeDataset",
 "objectIdField": "",
 "fields": [],
 "capabilities": "Mensuration,Image,Metadata",
 "defaultMosaicMethod": "Center",
 "allowedMosaicMethods": "",
 "sortField": "",
 "sortValue": null,
 "sortAscending": true,
 "mosaicOperator": "First",
 "defaultCompressionQuality": 75,
 "defaultResamplingMethod": "Bilinear",
 "maxImageHeight": 4100,
 "maxImageWidth": 15000,
 "allowRasterFunction": true,
 "rasterFunctionInfos": [
  {
   "name": "Shaded Relief Multidirectional",
   "description": "Creates a multiband, color coded, 3D representation of the surface, with the sun's relative position taken into account for shading the image.",
   "help": ""
  },
  {
   "name": "None",
   "description": "Make a Raster or Raster Dataset into a Function Raster Dataset.",
   "help": ""
  },
  {
   "name": "Aspect-Slope",
   "description": "Creates a raster that simultaneously displays the aspect (direction) and slope (steepness) of a continuous surface, as represented in a digital elevation model.",
   "help": ""
  },
  {
   "name": "Hillshade KAM",
   "description": "A raster function template for Architect Office.",
   "help": ""
  },
  {
   "name": "Hillshade",
   "description": "Creates a 3D representation of the surface, with the sun's relative position taken into account for shading the image.",
   "help": ""
  }
 ],
 "rasterTypeInfos": [
  {
   "name": "Raster Dataset",
   "description": "Supports all ArcGIS Raster Datasets",
   "help": ""
  }
 ],
 "mensurationCapabilities": "Basic",
 "hasHistograms": true,
 "hasColormap": false,
 "hasRasterAttributeTable": false,
 "minScale": 0,
 "maxScale": 0,
 "exportTilesAllowed": false,
 "supportsStatistics": false,
 "supportsAdvancedQueries": false,
 "editFieldsInfo": null,
 "ownershipBasedAccessControlForRasters": null,
 "allowComputeTiePoints": false,
 "useStandardizedQueries": true,
 "advancedQueryCapabilities": {
  "useStandardizedQueries": true,
  "supportsStatistics": false,
  "supportsOrderBy": false,
  "supportsDistinct": false,
  "supportsPagination": false
 },
 "spatialReference": {
  "wkid": 102067,
  "latestWkid": 5514
 },
 "resampling": false
}
