{
 "currentVersion": 11.5,
 "serviceDescription": "OMI/OMI_ODAE_teplotni_mapa_brno_2024",
 "name": "OMI/OMI_ODAE_teplotni_mapa_brno_2024",
 "description": "",
 "extent": {
  "xmin": -611439.8806960243,
  "ymin": -1170876.784173428,
  "xmax": -588475.8806960243,
  "ymax": -1149298.784173428,
  "spatialReference": {
   "wkid": 102067,
   "latestWkid": 5514
  }
 },
 "initialExtent": {
  "xmin": -611439.8806960243,
  "ymin": -1170876.784173428,
  "xmax": -588475.8806960243,
  "ymax": -1149298.784173428,
  "spatialReference": {
   "wkid": 102067,
   "latestWkid": 5514
  }
 },
 "fullExtent": {
  "xmin": -611439.8806960243,
  "ymin": -1170876.784173428,
  "xmax": -588475.8806960243,
  "ymax": -1149298.784173428,
  "spatialReference": {
   "wkid": 102067,
   "latestWkid": 5514
  }
 },
 "sortableFields": "",
 "bandCount": 1,
 "pixelType": "F32",
 "minValues": [
  -273.1499938964844
 ],
 "maxValues": [
  221.9632568359375
 ],
 "meanValues": [
  30.971372139522426
 ],
 "stdvValues": [
  52.808399235861145
 ],
 "serviceProperties": "Center<\/MosaicMethod>First<\/MosaicOperator>true<\/SortAscending><\/LockImageID><\/TileOrderField>0<\/TileOrderBase>0,000000<\/AvgImageSpacingX>0,000000<\/AvgImageSpacingY>0.0<\/ViewPointX>0.0<\/ViewPointY>0.0<\/ViewPointDefShiftX>0.0<\/ViewPointDefShiftY>None<\/CompressionMethod>75<\/CompressionQuality>0,010000<\/CompressionTolerance>Bilinear<\/SamplingMethod><\/ImageServiceProperties><\/ImageServer>",
 "allowedFields": "",
 "hasMultidimensions": false,
 "pixelSizeX": 2,
 "pixelSizeY": 2,
 "meanPixelSize": 2,
 "datasetFormat": "FGDBR",
 "uncompressedSize": 495517192,
 "blockWidth": 128,
 "blockHeight": 128,
 "compressionType": "LZ77",
 "bandNames": [
  "Band_1"
 ],
 "allowCopy": true,
 "allowAnalysis": true,
 "itemAccess": false,
 "inspectionCapabilities": "",
 "minPixelSize": 0,
 "maxPixelSize": 0,
 "copyrightText": "",
 "serviceDataType": "esriImageServiceDataTypeGeneric",
 "serviceSourceType": "esriImageServiceSourceTypeDataset",
 "objectIdField": "",
 "fields": [],
 "capabilities": "Image,Metadata,Mensuration",
 "defaultMosaicMethod": "Center",
 "allowedMosaicMethods": "",
 "sortField": "",
 "sortValue": null,
 "sortAscending": true,
 "mosaicOperator": "First",
 "defaultCompressionQuality": 75,
 "defaultResamplingMethod": "Bilinear",
 "maxImageHeight": 4100,
 "maxImageWidth": 15000,
 "allowRasterFunction": true,
 "rasterFunctionInfos": [
  {
   "name": "teplotní mapa",
   "description": "upravená škála pro teplotní mapu",
   "help": ""
  },
  {
   "name": "None",
   "description": "Make a Raster or Raster Dataset into a Function Raster Dataset.",
   "help": ""
  }
 ],
 "rasterTypeInfos": [
  {
   "name": "Raster Dataset",
   "description": "Supports all ArcGIS Raster Datasets",
   "help": ""
  }
 ],
 "mensurationCapabilities": "Basic",
 "hasHistograms": true,
 "hasColormap": false,
 "hasRasterAttributeTable": false,
 "minScale": 0,
 "maxScale": 0,
 "exportTilesAllowed": false,
 "supportsStatistics": false,
 "supportsAdvancedQueries": false,
 "editFieldsInfo": null,
 "ownershipBasedAccessControlForRasters": null,
 "allowComputeTiePoints": false,
 "useStandardizedQueries": true,
 "advancedQueryCapabilities": {
  "useStandardizedQueries": true,
  "supportsStatistics": false,
  "supportsOrderBy": false,
  "supportsDistinct": false,
  "supportsPagination": false
 },
 "spatialReference": {
  "wkid": 102067,
  "latestWkid": 5514
 }
}
