<?xml version="1.0" encoding="UTF-8" standalone="no"?>
<metadata xml:lang="cs">
<Esri>
<CreaDate>20260123</CreaDate>
<CreaTime>08563300</CreaTime>
<ArcGISFormat>1.0</ArcGISFormat>
<SyncOnce>FALSE</SyncOnce>
<DataProperties>
<itemProps>
<itemLocation>
<linkage Sync="TRUE">file://\\ZP10022010545\D$\OneDrive - Statutární město Brno\Dokumenty\ArcGIS\Packages\WFS_day_night_422af7\commondata\default.gdb</linkage>
<protocol Sync="TRUE">Local Area Network</protocol>
</itemLocation>
<itemName Sync="TRUE">BMO_zimaden_exp</itemName>
<imsContentType Sync="TRUE">002</imsContentType>
<nativeExtBox>
<westBL Sync="TRUE">1805047.920183</westBL>
<eastBL Sync="TRUE">1899277.920183</eastBL>
<southBL Sync="TRUE">6257516.464675</southBL>
<northBL Sync="TRUE">6347966.464675</northBL>
<exTypeCode Sync="TRUE">1</exTypeCode>
</nativeExtBox>
</itemProps>
<copyHistory>
<copy date="20260123" dest="\\ZP10022008495\D$\Dokumenty\ArcGIS\WFS_day_night\commondata\raster_data\BMO_LST_coldperiod-day_2025-03-07_32633.tif" source="D:\BŠ\projekty\WFS 2025\land_surface_temperature\day_night\BMO_LST_coldperiod-day_2025-03-07_32633.tif" time="08563300"/>
</copyHistory>
<coordRef>
<type Sync="TRUE">Projected</type>
<geogcsn Sync="TRUE">GCS_WGS_1984</geogcsn>
<csUnits Sync="TRUE">Linear Unit: Meter (1.000000)</csUnits>
<projcsn Sync="TRUE">WGS_1984_Web_Mercator_Auxiliary_Sphere</projcsn>
<peXml Sync="TRUE">&lt;ProjectedCoordinateSystem xsi:type='typens:ProjectedCoordinateSystem' xmlns:xsi='http://www.w3.org/2001/XMLSchema-instance' xmlns:xs='http://www.w3.org/2001/XMLSchema' xmlns:typens='http://www.esri.com/schemas/ArcGIS/3.6.0'&gt;&lt;WKT&gt;PROJCS[&amp;quot;WGS_1984_Web_Mercator_Auxiliary_Sphere&amp;quot;,GEOGCS[&amp;quot;GCS_WGS_1984&amp;quot;,DATUM[&amp;quot;D_WGS_1984&amp;quot;,SPHEROID[&amp;quot;WGS_1984&amp;quot;,6378137.0,298.257223563]],PRIMEM[&amp;quot;Greenwich&amp;quot;,0.0],UNIT[&amp;quot;Degree&amp;quot;,0.0174532925199433]],PROJECTION[&amp;quot;Mercator_Auxiliary_Sphere&amp;quot;],PARAMETER[&amp;quot;False_Easting&amp;quot;,0.0],PARAMETER[&amp;quot;False_Northing&amp;quot;,0.0],PARAMETER[&amp;quot;Central_Meridian&amp;quot;,0.0],PARAMETER[&amp;quot;Standard_Parallel_1&amp;quot;,0.0],PARAMETER[&amp;quot;Auxiliary_Sphere_Type&amp;quot;,0.0],UNIT[&amp;quot;Meter&amp;quot;,1.0],AUTHORITY[&amp;quot;EPSG&amp;quot;,3857]]&lt;/WKT&gt;&lt;XOrigin&gt;-20037700&lt;/XOrigin&gt;&lt;YOrigin&gt;-30241100&lt;/YOrigin&gt;&lt;XYScale&gt;148923141.92838538&lt;/XYScale&gt;&lt;ZOrigin&gt;-100000&lt;/ZOrigin&gt;&lt;ZScale&gt;10000&lt;/ZScale&gt;&lt;MOrigin&gt;-100000&lt;/MOrigin&gt;&lt;MScale&gt;10000&lt;/MScale&gt;&lt;XYTolerance&gt;0.001&lt;/XYTolerance&gt;&lt;ZTolerance&gt;0.001&lt;/ZTolerance&gt;&lt;MTolerance&gt;0.001&lt;/MTolerance&gt;&lt;HighPrecision&gt;true&lt;/HighPrecision&gt;&lt;WKID&gt;102100&lt;/WKID&gt;&lt;LatestWKID&gt;3857&lt;/LatestWKID&gt;&lt;/ProjectedCoordinateSystem&gt;</peXml>
</coordRef>
<lineage>
<Process Date="20260130" Time="073614" ToolSource="c:\program files\arcgis\pro\Resources\ArcToolbox\toolboxes\Data Management Tools.tbx\ProjectRaster">ProjectRaster BMO_LST_coldperiod-day_32633.tif "D:\OneDrive - Statutární město Brno\Dokumenty\ArcGIS\Packages\WFS_day_night_422af7\commondata\default.gdb\BMO_zimaden_exp" PROJCRS["WGS_1984_Web_Mercator_Auxiliary_Sphere",BASEGEOGCRS["GCS_WGS_1984",DYNAMIC[FRAMEEPOCH[1990.5],MODEL["AM0-2"]],DATUM["D_WGS_1984",ELLIPSOID["WGS_1984",6378137.0,298.257223563]],PRIMEM["Greenwich",0.0],CS[ellipsoidal,2],AXIS["Latitude (lat)",north,ORDER[1]],AXIS["Longitude (lon)",east,ORDER[2]],ANGLEUNIT["Degree",0.0174532925199433]],CONVERSION["Mercator_Auxiliary_Sphere",METHOD["Mercator_Auxiliary_Sphere"],PARAMETER["False_Easting",0.0],PARAMETER["False_Northing",0.0],PARAMETER["Central_Meridian",0.0],PARAMETER["Standard_Parallel_1",0.0],PARAMETER["Auxiliary_Sphere_Type",0.0]],CS[Cartesian,2],AXIS["Easting (X)",east,ORDER[1]],AXIS["Northing (Y)",north,ORDER[2]],LENGTHUNIT["Meter",1.0],ID["EPSG","3857"]] NEAREST "30 30" # # PROJCRS["WGS_1984_UTM_Zone_33N",BASEGEOGCRS["GCS_WGS_1984",DYNAMIC[FRAMEEPOCH[1990.5],MODEL["AM0-2"]],DATUM["D_WGS_1984",ELLIPSOID["WGS_1984",6378137.0,298.257223563]],PRIMEM["Greenwich",0.0],CS[ellipsoidal,2],AXIS["Latitude (lat)",north,ORDER[1]],AXIS["Longitude (lon)",east,ORDER[2]],ANGLEUNIT["Degree",0.0174532925199433]],CONVERSION["Transverse_Mercator",METHOD["Transverse_Mercator"],PARAMETER["False_Easting",500000.0],PARAMETER["False_Northing",0.0],PARAMETER["Central_Meridian",15.0],PARAMETER["Scale_Factor",0.9996],PARAMETER["Latitude_Of_Origin",0.0]],CS[Cartesian,2],AXIS["Easting (X)",east,ORDER[1]],AXIS["Northing (Y)",north,ORDER[2]],LENGTHUNIT["Meter",1.0],ID["EPSG","32633"]] NO_VERTICAL</Process>
</lineage>
</DataProperties>
<SyncDate>20260130</SyncDate>
<SyncTime>07361400</SyncTime>
<ModDate>20260130</ModDate>
<ModTime>07361400</ModTime>
</Esri>
<dataIdInfo>
<envirDesc Sync="TRUE">Microsoft Windows 10 Version 10.0 (Build 22631) ; Esri ArcGIS 13.6.0.59527</envirDesc>
<dataLang>
<languageCode Sync="TRUE" value="ces"/>
<countryCode Sync="TRUE" value="CZE"/>
</dataLang>
<idCitation>
<resTitle Sync="TRUE">BMO_zimaden_exp</resTitle>
<presForm>
<PresFormCd Sync="TRUE" value="011"/>
</presForm>
</idCitation>
<spatRpType>
<SpatRepTypCd Sync="TRUE" value="002"/>
</spatRpType>
<dataExt>
<geoEle>
<GeoBndBox esriExtentType="search">
<exTypeCode Sync="TRUE">1</exTypeCode>
<westBL Sync="TRUE">16.215021</westBL>
<eastBL Sync="TRUE">17.061504</eastBL>
<northBL Sync="TRUE">49.428981</northBL>
<southBL Sync="TRUE">48.897673</southBL>
</GeoBndBox>
</geoEle>
</dataExt>
<idAbs/>
<idPurp/>
<idCredit/>
<resConst>
<Consts>
<useLimit/>
</Consts>
</resConst>
</dataIdInfo>
<mdLang>
<languageCode Sync="TRUE" value="ces"/>
<countryCode Sync="TRUE" value="CZE"/>
</mdLang>
<distInfo>
<distFormat>
<formatName Sync="TRUE">File Geodatabase Raster Dataset</formatName>
</distFormat>
</distInfo>
<mdHrLv>
<ScopeCd Sync="TRUE" value="005"/>
</mdHrLv>
<mdHrLvName Sync="TRUE">dataset</mdHrLvName>
<refSysInfo>
<RefSystem>
<refSysID>
<identCode Sync="TRUE" code="3857"/>
<idCodeSpace Sync="TRUE">EPSG</idCodeSpace>
<idVersion Sync="TRUE">6.18.3(9.3.1.2)</idVersion>
</refSysID>
</RefSystem>
</refSysInfo>
<spdoinfo>
<rastinfo>
<rasttype Sync="TRUE">Pixel</rasttype>
<rowcount Sync="TRUE">3015</rowcount>
<colcount Sync="TRUE">3141</colcount>
<rastxsz Sync="TRUE">30,000000</rastxsz>
<rastysz Sync="TRUE">30,000000</rastysz>
<rastbpp Sync="TRUE">32</rastbpp>
<vrtcount Sync="TRUE">1</vrtcount>
<rastorig Sync="TRUE">Upper Left</rastorig>
<rastcmap Sync="TRUE">FALSE</rastcmap>
<rastcomp Sync="TRUE">LZ77</rastcomp>
<rastband Sync="TRUE">1</rastband>
<rastdtyp Sync="TRUE">pixel codes</rastdtyp>
<rastifor Sync="TRUE">FGDBR</rastifor>
<rastplyr Sync="TRUE">TRUE</rastplyr>
</rastinfo>
</spdoinfo>
<spref>
<horizsys>
<planar>
<planci>
<plance Sync="TRUE">row and column</plance>
<coordrep>
<absres Sync="TRUE">30,000000</absres>
<ordres Sync="TRUE">30,000000</ordres>
</coordrep>
</planci>
</planar>
</horizsys>
</spref>
<mdDateSt Sync="TRUE">20260130</mdDateSt>
</metadata>
