<?xml version="1.0" encoding="UTF-8" standalone="no"?>
<metadata xml:lang="cs">
<Esri>
<CreaDate>20260122</CreaDate>
<CreaTime>12140000</CreaTime>
<ArcGISFormat>1.0</ArcGISFormat>
<SyncOnce>FALSE</SyncOnce>
<DataProperties>
<itemProps>
<itemName Sync="TRUE">Brno_UHI_2025_exp</itemName>
<imsContentType Sync="TRUE">002</imsContentType>
<nativeExtBox>
<westBL Sync="TRUE">1828389.946683</westBL>
<eastBL Sync="TRUE">1862379.946683</eastBL>
<southBL Sync="TRUE">6293268.006722</southBL>
<northBL Sync="TRUE">6325428.006722</northBL>
<exTypeCode Sync="TRUE">1</exTypeCode>
</nativeExtBox>
<itemLocation>
<linkage Sync="TRUE">file://\\ZP10022010545\D$\OneDrive - Statutární město Brno\Dokumenty\ArcGIS\Packages\WFS_UHI_890970\commondata\default.gdb</linkage>
<protocol Sync="TRUE">Local Area Network</protocol>
</itemLocation>
</itemProps>
<coordRef>
<type Sync="TRUE">Projected</type>
<geogcsn Sync="TRUE">GCS_WGS_1984</geogcsn>
<csUnits Sync="TRUE">Linear Unit: Meter (1.000000)</csUnits>
<projcsn Sync="TRUE">WGS_1984_Web_Mercator_Auxiliary_Sphere</projcsn>
<peXml Sync="TRUE">&lt;ProjectedCoordinateSystem xsi:type='typens:ProjectedCoordinateSystem' xmlns:xsi='http://www.w3.org/2001/XMLSchema-instance' xmlns:xs='http://www.w3.org/2001/XMLSchema' xmlns:typens='http://www.esri.com/schemas/ArcGIS/3.6.0'&gt;&lt;WKT&gt;PROJCS[&amp;quot;WGS_1984_Web_Mercator_Auxiliary_Sphere&amp;quot;,GEOGCS[&amp;quot;GCS_WGS_1984&amp;quot;,DATUM[&amp;quot;D_WGS_1984&amp;quot;,SPHEROID[&amp;quot;WGS_1984&amp;quot;,6378137.0,298.257223563]],PRIMEM[&amp;quot;Greenwich&amp;quot;,0.0],UNIT[&amp;quot;Degree&amp;quot;,0.0174532925199433]],PROJECTION[&amp;quot;Mercator_Auxiliary_Sphere&amp;quot;],PARAMETER[&amp;quot;False_Easting&amp;quot;,0.0],PARAMETER[&amp;quot;False_Northing&amp;quot;,0.0],PARAMETER[&amp;quot;Central_Meridian&amp;quot;,0.0],PARAMETER[&amp;quot;Standard_Parallel_1&amp;quot;,0.0],PARAMETER[&amp;quot;Auxiliary_Sphere_Type&amp;quot;,0.0],UNIT[&amp;quot;Meter&amp;quot;,1.0],AUTHORITY[&amp;quot;EPSG&amp;quot;,3857]]&lt;/WKT&gt;&lt;XOrigin&gt;-20037700&lt;/XOrigin&gt;&lt;YOrigin&gt;-30241100&lt;/YOrigin&gt;&lt;XYScale&gt;148923141.92838538&lt;/XYScale&gt;&lt;ZOrigin&gt;-100000&lt;/ZOrigin&gt;&lt;ZScale&gt;10000&lt;/ZScale&gt;&lt;MOrigin&gt;-100000&lt;/MOrigin&gt;&lt;MScale&gt;10000&lt;/MScale&gt;&lt;XYTolerance&gt;0.001&lt;/XYTolerance&gt;&lt;ZTolerance&gt;0.001&lt;/ZTolerance&gt;&lt;MTolerance&gt;0.001&lt;/MTolerance&gt;&lt;HighPrecision&gt;true&lt;/HighPrecision&gt;&lt;WKID&gt;102100&lt;/WKID&gt;&lt;LatestWKID&gt;3857&lt;/LatestWKID&gt;&lt;/ProjectedCoordinateSystem&gt;</peXml>
</coordRef>
<lineage>
<Process Date="20260122" Time="121400" ToolSource="c:\program files\arcgis\pro\Resources\ArcToolbox\toolboxes\Data Management Tools.tbx\Clip">Clip BMO_UHI_2025_32633.tif "603991,361873457 5440944,23316458 625774,188393017 5461458,72403126" "D:\BŠ\GIS projekty\WFS_UHI\Default.gdb\BMO_UHI_2025_32633_Clip" polygon_Brno nan ClippingGeometry NO_MAINTAIN_EXTENT</Process>
<Process Date="20260129" Time="161243" ToolSource="c:\program files\arcgis\pro\Resources\ArcToolbox\toolboxes\Data Management Tools.tbx\ProjectRaster">ProjectRaster Brno_UHI_2025_32633 "D:\OneDrive - Statutární město Brno\Dokumenty\ArcGIS\Packages\WFS_UHI_890970\commondata\default.gdb\Brno_UHI_2025_exp" PROJCRS["WGS_1984_Web_Mercator_Auxiliary_Sphere",BASEGEOGCRS["GCS_WGS_1984",DYNAMIC[FRAMEEPOCH[1990.5],MODEL["AM0-2"]],DATUM["D_WGS_1984",ELLIPSOID["WGS_1984",6378137.0,298.257223563]],PRIMEM["Greenwich",0.0],CS[ellipsoidal,2],AXIS["Latitude (lat)",north,ORDER[1]],AXIS["Longitude (lon)",east,ORDER[2]],ANGLEUNIT["Degree",0.0174532925199433]],CONVERSION["Mercator_Auxiliary_Sphere",METHOD["Mercator_Auxiliary_Sphere"],PARAMETER["False_Easting",0.0],PARAMETER["False_Northing",0.0],PARAMETER["Central_Meridian",0.0],PARAMETER["Standard_Parallel_1",0.0],PARAMETER["Auxiliary_Sphere_Type",0.0]],CS[Cartesian,2],AXIS["Easting (X)",east,ORDER[1]],AXIS["Northing (Y)",north,ORDER[2]],LENGTHUNIT["Meter",1.0],ID["EPSG","3857"]] NEAREST "30 30" # # PROJCRS["WGS_1984_UTM_Zone_33N",BASEGEOGCRS["GCS_WGS_1984",DYNAMIC[FRAMEEPOCH[1990.5],MODEL["AM0-2"]],DATUM["D_WGS_1984",ELLIPSOID["WGS_1984",6378137.0,298.257223563]],PRIMEM["Greenwich",0.0],CS[ellipsoidal,2],AXIS["Latitude (lat)",north,ORDER[1]],AXIS["Longitude (lon)",east,ORDER[2]],ANGLEUNIT["Degree",0.0174532925199433]],CONVERSION["Transverse_Mercator",METHOD["Transverse_Mercator"],PARAMETER["False_Easting",500000.0],PARAMETER["False_Northing",0.0],PARAMETER["Central_Meridian",15.0],PARAMETER["Scale_Factor",0.9996],PARAMETER["Latitude_Of_Origin",0.0]],CS[Cartesian,2],AXIS["Easting (X)",east,ORDER[1]],AXIS["Northing (Y)",north,ORDER[2]],LENGTHUNIT["Meter",1.0],ID["EPSG","32633"]] NO_VERTICAL</Process>
</lineage>
</DataProperties>
<SyncDate>20260129</SyncDate>
<SyncTime>16124200</SyncTime>
<ModDate>20260129</ModDate>
<ModTime>16124200</ModTime>
</Esri>
<dataIdInfo>
<envirDesc Sync="TRUE">Microsoft Windows 10 Version 10.0 (Build 22631) ; Esri ArcGIS 13.6.0.59527</envirDesc>
<dataLang>
<languageCode Sync="TRUE" value="ces"/>
<countryCode Sync="TRUE" value="CZE"/>
</dataLang>
<idCitation>
<resTitle Sync="TRUE">Brno_UHI_2025_exp</resTitle>
<presForm>
<PresFormCd Sync="TRUE" value="011"/>
</presForm>
</idCitation>
<spatRpType>
<SpatRepTypCd Sync="TRUE" value="002"/>
</spatRpType>
<dataExt>
<geoEle>
<GeoBndBox esriExtentType="search">
<exTypeCode Sync="TRUE">1</exTypeCode>
<westBL Sync="TRUE">16.424706</westBL>
<eastBL Sync="TRUE">16.730044</eastBL>
<northBL Sync="TRUE">49.297122</northBL>
<southBL Sync="TRUE">49.108361</southBL>
</GeoBndBox>
</geoEle>
</dataExt>
<idAbs/>
<idPurp/>
<idCredit/>
<resConst>
<Consts>
<useLimit/>
</Consts>
</resConst>
</dataIdInfo>
<mdLang>
<languageCode Sync="TRUE" value="ces"/>
<countryCode Sync="TRUE" value="CZE"/>
</mdLang>
<distInfo>
<distFormat>
<formatName Sync="TRUE">File Geodatabase Raster Dataset</formatName>
</distFormat>
</distInfo>
<mdHrLv>
<ScopeCd Sync="TRUE" value="005"/>
</mdHrLv>
<mdHrLvName Sync="TRUE">dataset</mdHrLvName>
<refSysInfo>
<RefSystem>
<refSysID>
<identCode Sync="TRUE" code="3857"/>
<idCodeSpace Sync="TRUE">EPSG</idCodeSpace>
<idVersion Sync="TRUE">6.18.3(9.3.1.2)</idVersion>
</refSysID>
</RefSystem>
</refSysInfo>
<spdoinfo>
<rastinfo>
<rasttype Sync="TRUE">Pixel</rasttype>
<rowcount Sync="TRUE">1072</rowcount>
<colcount Sync="TRUE">1133</colcount>
<rastxsz Sync="TRUE">30,000000</rastxsz>
<rastysz Sync="TRUE">30,000000</rastysz>
<rastbpp Sync="TRUE">32</rastbpp>
<vrtcount Sync="TRUE">1</vrtcount>
<rastorig Sync="TRUE">Upper Left</rastorig>
<rastcmap Sync="TRUE">FALSE</rastcmap>
<rastcomp Sync="TRUE">LZ77</rastcomp>
<rastband Sync="TRUE">1</rastband>
<rastdtyp Sync="TRUE">pixel codes</rastdtyp>
<rastifor Sync="TRUE">FGDBR</rastifor>
<rastplyr Sync="TRUE">TRUE</rastplyr>
</rastinfo>
</spdoinfo>
<spref>
<horizsys>
<planar>
<planci>
<plance Sync="TRUE">row and column</plance>
<coordrep>
<absres Sync="TRUE">30,000000</absres>
<ordres Sync="TRUE">30,000000</ordres>
</coordrep>
</planci>
</planar>
</horizsys>
</spref>
<mdDateSt Sync="TRUE">20260129</mdDateSt>
</metadata>
