{
 "currentVersion": 11.5,
 "cimVersion": "3.5.0",
 "serviceDescription": "© TopGis, s.r.o., datum snímkování: 19. 6. a 24., 29. a 30. 7. 2021",
 "mapName": "Map",
 "description": "",
 "copyrightText": "© TopGis, s.r.o., datum snímkování: 19. 6. a 24., 29. a 30. 7. 2021",
 "supportsDynamicLayers": true,
 "layers": [
  {
   "id": 0,
   "name": "Map",
   "parentLayerId": -1,
   "defaultVisibility": true,
   "subLayerIds": null,
   "minScale": 0,
   "maxScale": 0,
   "type": "Raster Layer",
   "supportsDynamicLegends": true
  }
 ],
 "tables": [],
 "spatialReference": {
  "wkid": 102067,
  "latestWkid": 5514,
  "xyTolerance": 0.001,
  "zTolerance": 0.001,
  "mTolerance": 0.001,
  "falseX": -33699800,
  "falseY": -33699800,
  "xyUnits": 10000,
  "falseZ": -100000,
  "zUnits": 10000,
  "falseM": -100000,
  "mUnits": 10000
 },
 "singleFusedMapCache": true,
 "tileInfo": {
  "rows": 256,
  "cols": 256,
  "dpi": 96,
  "format": "MIXED",
  "compressionQuality": 75,
  "origin": {
   "x": -33699800,
   "y": 33699800
  },
  "spatialReference": {
   "wkid": 102067,
   "latestWkid": 5514,
   "xyTolerance": 0.001,
   "zTolerance": 0.001,
   "mTolerance": 0.001,
   "falseX": -33699800,
   "falseY": -33699800,
   "xyUnits": 10000,
   "falseZ": -100000,
   "zUnits": 10000,
   "falseM": -100000,
   "mUnits": 10000
  },
  "lods": [
   {
    "level": 0,
    "resolution": 64,
    "scale": 241889.28
   },
   {
    "level": 1,
    "resolution": 32,
    "scale": 120944.64
   },
   {
    "level": 2,
    "resolution": 16,
    "scale": 60472.32
   },
   {
    "level": 3,
    "resolution": 8,
    "scale": 30236.16
   },
   {
    "level": 4,
    "resolution": 6.614596562526459,
    "scale": 25000
   },
   {
    "level": 5,
    "resolution": 4,
    "scale": 15118.08
   },
   {
    "level": 6,
    "resolution": 2.6458386250105836,
    "scale": 10000
   },
   {
    "level": 7,
    "resolution": 2,
    "scale": 7559.04
   },
   {
    "level": 8,
    "resolution": 1.3229193125052918,
    "scale": 5000
   },
   {
    "level": 9,
    "resolution": 1,
    "scale": 3779.52
   },
   {
    "level": 10,
    "resolution": 0.5,
    "scale": 1889.76
   },
   {
    "level": 11,
    "resolution": 0.25,
    "scale": 944.88
   },
   {
    "level": 12,
    "resolution": 0.125,
    "scale": 472.44
   }
  ]
 },
 "storageInfo": {
  "storageFormat": "esriMapCacheStorageModeCompactV2",
  "packetSize": 128
 },
 "initialExtent": {
  "xmin": -618470.416164053,
  "ymin": -1171800,
  "xmax": -580279.583835947,
  "ymax": -1143200,
  "spatialReference": {
   "wkid": 102067,
   "latestWkid": 5514,
   "xyTolerance": 0.001,
   "zTolerance": 0.001,
   "mTolerance": 0.001,
   "falseX": -33699800,
   "falseY": -33699800,
   "xyUnits": 10000,
   "falseZ": -100000,
   "zUnits": 10000,
   "falseM": -100000,
   "mUnits": 10000
  }
 },
 "fullExtent": {
  "xmin": -613125,
  "ymin": -1170500,
  "xmax": -585625,
  "ymax": -1144500,
  "spatialReference": {
   "wkid": 102067,
   "latestWkid": 5514,
   "xyTolerance": 0.001,
   "zTolerance": 0.001,
   "mTolerance": 0.001,
   "falseX": -33699800,
   "falseY": -33699800,
   "xyUnits": 10000,
   "falseZ": -100000,
   "zUnits": 10000,
   "falseM": -100000,
   "mUnits": 10000
  }
 },
 "datesInUnknownTimezone": false,
 "minScale": 241889.28,
 "maxScale": 472.44,
 "minLOD": 0,
 "maxLOD": 12,
 "units": "esriMeters",
 "supportedImageFormatTypes": "PNG32,PNG24,PNG,JPG,DIB,TIFF,EMF,PS,PDF,GIF,SVG,SVGZ,BMP",
 "documentInfo": {
  "Title": "Map",
  "Author": "",
  "Comments": "",
  "Subject": "",
  "Category": "",
  "Version": "2.5.0",
  "AntialiasingMode": "Fast",
  "TextAntialiasingMode": "Force",
  "Keywords": "ortofoto"
 },
 "supportsQueryDomains": true,
 "capabilities": "Map,Query,Data",
 "supportedQueryFormats": "JSON, geoJSON, PBF",
 "exportTilesAllowed": false,
 "referenceScale": 0.0,
 "supportsDatumTransformation": true,
 "archivingInfo": {
  "supportsHistoricMoment": false
 },
 "supportsClipping": true,
 "supportsSpatialFilter": true,
 "supportsTimeRelation": true,
 "supportsQueryDataElements": true,
 "mapUnits": {
  "uwkid": 9001
 },
 "maxSelectionCount": 2000,
 "maxRecordCount": 2000,
 "maxImageHeight": 4096,
 "maxImageWidth": 4096,
 "supportedExtensions": "",
 "resampling": false
}
