View In:
ArcGIS JavaScript
ArcGIS Online Map Viewer
ArcGIS Earth
Service Description: OMI/OMI_DMP
Name: OMI/OMI_DMP
Description:
Single Fused Map Cache: false
Extent:
XMin: -613125.0452635661
YMin: -1172500.0189172998
XMax: -586875.0452635661
YMax: -1147500.0189172998
Spatial Reference: 102067
(5514)
LatestVCSWkid(0)
Initial Extent:
XMin: -613125.0452635661
YMin: -1172500.0189172998
XMax: -586875.0452635661
YMax: -1147500.0189172998
Spatial Reference: 102067
(5514)
LatestVCSWkid(0)
Full Extent:
XMin: -613125.0452635661
YMin: -1172500.0189172998
XMax: -586875.0452635661
YMax: -1147500.0189172998
Spatial Reference: 102067
(5514)
LatestVCSWkid(0)
Pixel Size X: 0.25
Pixel Size Y: 0.25
Band Count: 1
Pixel Type: F32
RasterFunction Infos: {"rasterFunctionInfos": [{
"name": "None",
"description": "Make a Raster or Raster Dataset into a Function Raster Dataset.",
"help": ""
}]}
Mensuration Capabilities: Basic
Inspection Capabilities:
Has Histograms: true
Has Colormap: false
Has Multi Dimensions : false
Rendering Rule:
Min Scale: 0
Max Scale: 0
Resampling: false
Copyright Text:
Service Data Type: esriImageServiceDataTypeGeneric
Min Values: 181.16531372070312
Max Values: 554.5084228515625
Mean Values: 294.38750287173644
Standard Deviation Values: 71.86287185080775
Object ID Field:
Fields:
None
Default Mosaic Method: Center
Allowed Mosaic Methods:
SortField:
SortValue: null
Mosaic Operator: First
Default Compression Quality: 75
Default Resampling Method: Bilinear
Max Record Count: null
Max Image Height: 4100
Max Image Width: 15000
Max Download Image Count: null
Max Mosaic Image Count: null
Allow Raster Function: true
Allow Copy: true
Allow Analysis: true
Allow Compute TiePoints: false
Supports Statistics: false
Supports Advanced Queries: false
Use StandardizedQueries: true
Raster Type Infos:
Name: Raster Dataset
Description: Supports all ArcGIS Raster Datasets
Help:
Has Raster Attribute Table: false
Edit Fields Info: null
Ownership Based AccessControl For Rasters: null
Child Resources:
Info
Histograms
Statistics
Key Properties
Legend
Raster Function Infos
Supported Operations:
Export Image
Identify
Measure
Compute Histograms
Compute Statistics Histograms
Get Samples
Compute Class Statistics
Query Boundary
Compute Pixel Location
Compute Angles
Validate
Project