View In:
ArcGIS JavaScript
ArcGIS Online Map Viewer
ArcGIS Earth
Service Description: OMI/OMI_osvit_2019
Name: OMI/OMI_osvit_2019
Description:
Single Fused Map Cache: false
Extent:
XMin: -611187.6488037109
YMin: -1170623.398803711
XMax: -588727.6488037109
YMax: -1149551.398803711
Spatial Reference: 102067
(5514)
LatestVCSWkid(0)
Initial Extent:
XMin: -611187.6488037109
YMin: -1170623.398803711
XMax: -588727.6488037109
YMax: -1149551.398803711
Spatial Reference: 102067
(5514)
LatestVCSWkid(0)
Full Extent:
XMin: -611187.6488037109
YMin: -1170623.398803711
XMax: -588727.6488037109
YMax: -1149551.398803711
Spatial Reference: 102067
(5514)
LatestVCSWkid(0)
Pixel Size X: 1.0
Pixel Size Y: 1.0
Band Count: 1
Pixel Type: F32
RasterFunction Infos: {"rasterFunctionInfos": [
{
"name": "Osvit",
"description": "Vizualizace mapy osvitu",
"help": ""
},
{
"name": "None",
"description": "Make a Raster or Raster Dataset into a Function Raster Dataset.",
"help": ""
}
]}
Mensuration Capabilities: Basic
Inspection Capabilities:
Has Histograms: true
Has Colormap: false
Has Multi Dimensions : false
Rendering Rule:
Min Scale: 0
Max Scale: 0
Resampling: false
Copyright Text:
Service Data Type: esriImageServiceDataTypeGeneric
Min Values: 0.039082493633032
Max Values: 1198.6740722656
Mean Values: 788.71122510467
Standard Deviation Values: 277.86759400042
Object ID Field:
Fields:
None
Default Mosaic Method: Center
Allowed Mosaic Methods:
SortField:
SortValue: null
Mosaic Operator: First
Default Compression Quality: 75
Default Resampling Method: Bilinear
Max Record Count: null
Max Image Height: 4100
Max Image Width: 15000
Max Download Image Count: null
Max Mosaic Image Count: null
Allow Raster Function: true
Allow Copy: true
Allow Analysis: true
Allow Compute TiePoints: false
Supports Statistics: false
Supports Advanced Queries: false
Use StandardizedQueries: true
Raster Type Infos:
Name: Raster Dataset
Description: Supports all ArcGIS Raster Datasets
Help:
Has Raster Attribute Table: false
Edit Fields Info: null
Ownership Based AccessControl For Rasters: null
Child Resources:
Info
Histograms
Statistics
Key Properties
Legend
Raster Function Infos
Supported Operations:
Export Image
Identify
Measure
Compute Histograms
Compute Statistics Histograms
Get Samples
Compute Class Statistics
Query Boundary
Compute Pixel Location
Compute Angles
Validate
Project