View In:
ArcGIS JavaScript
ArcGIS Online Map Viewer
ArcGIS Earth
Service Description:
Name: OMI_DTM_2019
Description: N/A
Single Fused Map Cache: true
Tile Info:
- Height: 256
- Width: 256
- DPI: 96
-
Levels of Detail: 19
-
Level ID: 0
[ Start Tile, End Tile ]
- Resolution: 263278.3644161216
- Scale: 9.95067834013688E8
-
Level ID: 1
[ Start Tile, End Tile ]
- Resolution: 131639.1822080608
- Scale: 4.97533917006844E8
-
Level ID: 2
[ Start Tile, End Tile ]
- Resolution: 65819.5911040304
- Scale: 2.48766958503422E8
-
Level ID: 3
[ Start Tile, End Tile ]
- Resolution: 32909.7955520152
- Scale: 1.24383479251711E8
-
Level ID: 4
[ Start Tile, End Tile ]
- Resolution: 16454.8977760076
- Scale: 6.21917396258555E7
-
Level ID: 5
[ Start Tile, End Tile ]
- Resolution: 8227.4488880038
- Scale: 3.109586981292775E7
-
Level ID: 6
[ Start Tile, End Tile ]
- Resolution: 4113.7244440019
- Scale: 1.5547934906463875E7
-
Level ID: 7
[ Start Tile, End Tile ]
- Resolution: 2056.86222200095
- Scale: 7773967.453231937
-
Level ID: 8
[ Start Tile, End Tile ]
- Resolution: 1028.431111000475
- Scale: 3886983.7266159686
-
Level ID: 9
[ Start Tile, End Tile ]
- Resolution: 514.2155555002375
- Scale: 1943491.8633079843
-
Level ID: 10
[ Start Tile, End Tile ]
- Resolution: 257.10777775011877
- Scale: 971745.9316539922
-
Level ID: 11
[ Start Tile, End Tile ]
- Resolution: 128.55388887505939
- Scale: 485872.9658269961
-
Level ID: 12
[ Start Tile, End Tile ]
- Resolution: 64.27694443752969
- Scale: 242936.48291349804
-
Level ID: 13
[ Start Tile, End Tile ]
- Resolution: 32.138472218764846
- Scale: 121468.24145674902
-
Level ID: 14
[ Start Tile, End Tile ]
- Resolution: 16.069236109382423
- Scale: 60734.12072837451
-
Level ID: 15
[ Start Tile, End Tile ]
- Resolution: 8.034618054691212
- Scale: 30367.060364187255
-
Level ID: 16
[ Start Tile, End Tile ]
- Resolution: 4.017309027345606
- Scale: 15183.530182093627
-
Level ID: 17
[ Start Tile, End Tile ]
- Resolution: 2.008654513672803
- Scale: 7591.765091046814
-
Level ID: 18
[ Start Tile, End Tile ]
- Resolution: 1.0043272568364014
- Scale: 3795.882545523407
- Format: LERC
- Compression Quality: 0.0
- LERC Error: 0.0
- Origin: X: -3.369963064526357E7
Y: 3.366613058461971E7
- Spatial Reference: 102067
(5514)
LatestVCSWkid(0)
Storage Info:
- Storage Format: esriMapCacheStorageModeCompactV2
- Packet Size: 128
Extent:
XMin: -611431.42098023
YMin: -1170860.5059208076
XMax: -588490.5777795729
YMax: -1149314.6732798964
Spatial Reference: 102067
(5514)
LatestVCSWkid(0)
Initial Extent:
XMin: -611431.42098023
YMin: -1170860.5059208076
XMax: -588490.5777795729
YMax: -1149314.6732798964
Spatial Reference: 102067
(5514)
LatestVCSWkid(0)
Full Extent:
XMin: -611431.42098023
YMin: -1170860.5059208076
XMax: -588490.5777795729
YMax: -1149314.6732798964
Spatial Reference: 102067
(5514)
LatestVCSWkid(0)
Pixel Size X: 1.0043272568364014
Pixel Size Y: 1.0043272568364014
Band Count: 1
Pixel Type:
RasterFunction Infos: {"rasterFunctionInfos": null}
Mensuration Capabilities:
Inspection Capabilities:
Has Histograms: false
Has Colormap: false
Has Multi Dimensions : false
Rendering Rule:
Min Scale: 9.95067834013688E8
Max Scale: 3795.882545523407
Min LOD: 0
Max LOD: 18
Resampling: true
Copyright Text: N/A
Service Data Type: esriImageServiceDataTypeElevation
Min Values: N/A
Max Values: N/A
Mean Values: N/A
Standard Deviation Values: N/A
Object ID Field: N/A
Fields:
None
Default Mosaic Method: N/A
Allowed Mosaic Methods: N/A
SortField: N/A
SortValue: N/A
Mosaic Operator: N/A
Default Compression Quality: null
Default Resampling Method: N/A
Max Record Count: null
Max Image Height: null
Max Image Width: null
Max Download Image Count: null
Max Mosaic Image Count: null
Allow Raster Function: null
Allow Copy: null
Allow Analysis: null
Allow Compute TiePoints: false
Supports Statistics: false
Supports Advanced Queries: false
Use StandardizedQueries: false
Raster Type Infos:
None
Has Raster Attribute Table: null
Edit Fields Info: N/A
Ownership Based AccessControl For Rasters: N/A
Child Resources:
Info