View In:
ArcGIS JavaScript
ArcGIS Online Map Viewer
ArcGIS Earth
Service Description: OMI/OMI_DMT_2019
Name: OMI/OMI_DMT_2019
Description:
Single Fused Map Cache: false
Extent:
XMin: -611431.8009834506
YMin: -1170860.9707286125
XMax: -588490.5509834506
YMax: -1149314.4707286125
Spatial Reference: 102067
(5514)
LatestVCSWkid(0)
Initial Extent:
XMin: -611431.8009834506
YMin: -1170860.9707286125
XMax: -588490.5509834506
YMax: -1149314.4707286125
Spatial Reference: 102067
(5514)
LatestVCSWkid(0)
Full Extent:
XMin: -611431.8009834506
YMin: -1170860.9707286125
XMax: -588490.5509834506
YMax: -1149314.4707286125
Spatial Reference: 102067
(5514)
LatestVCSWkid(0)
Pixel Size X: 0.25
Pixel Size Y: 0.25
Band Count: 1
Pixel Type: F32
RasterFunction Infos: {"rasterFunctionInfos": [
{
"name": "Shaded Relief Multidirectional",
"description": "Creates a multiband, color coded, 3D representation of the surface, with the sun's relative position taken into account for shading the image.",
"help": ""
},
{
"name": "None",
"description": "Make a Raster or Raster Dataset into a Function Raster Dataset.",
"help": ""
},
{
"name": "Aspect-Slope",
"description": "Creates a raster that simultaneously displays the aspect (direction) and slope (steepness) of a continuous surface, as represented in a digital elevation model.",
"help": ""
},
{
"name": "Hillshade KAM",
"description": "A raster function template for Architect Office.",
"help": ""
},
{
"name": "Hillshade",
"description": "Creates a 3D representation of the surface, with the sun's relative position taken into account for shading the image.",
"help": ""
}
]}
Mensuration Capabilities: Basic
Inspection Capabilities:
Has Histograms: true
Has Colormap: false
Has Multi Dimensions : false
Rendering Rule:
Min Scale: 0
Max Scale: 0
Resampling: false
Copyright Text:
Service Data Type: esriImageServiceDataTypeElevation
Min Values: 186.5543670654297
Max Values: 523.9848022460938
Mean Values: 285.2750410958673
Standard Deviation Values: 69.17098591950986
Object ID Field:
Fields:
None
Default Mosaic Method: Center
Allowed Mosaic Methods:
SortField:
SortValue: null
Mosaic Operator: First
Default Compression Quality: 75
Default Resampling Method: Bilinear
Max Record Count: null
Max Image Height: 4100
Max Image Width: 15000
Max Download Image Count: null
Max Mosaic Image Count: null
Allow Raster Function: true
Allow Copy: true
Allow Analysis: true
Allow Compute TiePoints: false
Supports Statistics: false
Supports Advanced Queries: false
Use StandardizedQueries: true
Raster Type Infos:
Name: Raster Dataset
Description: Supports all ArcGIS Raster Datasets
Help:
Has Raster Attribute Table: false
Edit Fields Info: null
Ownership Based AccessControl For Rasters: null
Child Resources:
Info
Histograms
Statistics
Key Properties
Legend
Raster Function Infos
Supported Operations:
Export Image
Identify
Measure
Compute Histograms
Compute Statistics Histograms
Get Samples
Compute Class Statistics
Query Boundary
Compute Pixel Location
Compute Angles
Validate
Project
Calculate Volume