View In:
ArcGIS JavaScript
ArcGIS Online Map Viewer
ArcGIS Earth
Service Description: OMI/OMI_ODAE_teplotni_mapa_brno_2024
Name: OMI/OMI_ODAE_teplotni_mapa_brno_2024
Description:
Single Fused Map Cache: false
Extent:
XMin: -611439.8806960243
YMin: -1170876.784173428
XMax: -588475.8806960243
YMax: -1149298.784173428
Spatial Reference: 102067
(5514)
LatestVCSWkid(0)
Initial Extent:
XMin: -611439.8806960243
YMin: -1170876.784173428
XMax: -588475.8806960243
YMax: -1149298.784173428
Spatial Reference: 102067
(5514)
LatestVCSWkid(0)
Full Extent:
XMin: -611439.8806960243
YMin: -1170876.784173428
XMax: -588475.8806960243
YMax: -1149298.784173428
Spatial Reference: 102067
(5514)
LatestVCSWkid(0)
Pixel Size X: 2.0
Pixel Size Y: 2.0
Band Count: 1
Pixel Type: F32
RasterFunction Infos: {"rasterFunctionInfos": [
{
"name": "teplotní mapa",
"description": "upravená škála pro teplotní mapu",
"help": ""
},
{
"name": "None",
"description": "Make a Raster or Raster Dataset into a Function Raster Dataset.",
"help": ""
}
]}
Mensuration Capabilities: Basic
Inspection Capabilities:
Has Histograms: true
Has Colormap: false
Has Multi Dimensions : false
Rendering Rule:
Min Scale: 0
Max Scale: 0
Copyright Text:
Service Data Type: esriImageServiceDataTypeGeneric
Min Values: -273.1499938964844
Max Values: 221.9632568359375
Mean Values: 30.971372139522426
Standard Deviation Values: 52.808399235861145
Object ID Field:
Fields:
None
Default Mosaic Method: Center
Allowed Mosaic Methods:
SortField:
SortValue: null
Mosaic Operator: First
Default Compression Quality: 75
Default Resampling Method: Bilinear
Max Record Count: null
Max Image Height: 4100
Max Image Width: 15000
Max Download Image Count: null
Max Mosaic Image Count: null
Allow Raster Function: true
Allow Copy: true
Allow Analysis: true
Allow Compute TiePoints: false
Supports Statistics: false
Supports Advanced Queries: false
Use StandardizedQueries: true
Raster Type Infos:
Name: Raster Dataset
Description: Supports all ArcGIS Raster Datasets
Help:
Has Raster Attribute Table: false
Edit Fields Info: null
Ownership Based AccessControl For Rasters: null
Child Resources:
Info
Histograms
Statistics
Key Properties
Legend
Raster Function Infos
Supported Operations:
Export Image
Identify
Measure
Compute Histograms
Compute Statistics Histograms
Get Samples
Compute Class Statistics
Query Boundary
Compute Pixel Location
Compute Angles
Validate
Project